BEGIN:VCALENDAR
VERSION:2.0
PRODID:-//SportPlan//Event Calendar//EN
CALSCALE:GREGORIAN
BEGIN:VEVENT
UID:648c613e-05d7-4fba-88a1-8ecddc464cb7@sportplan.local
DTSTAMP:20260420T164018Z
DTSTART;VALUE=DATE:20260214
DTEND;VALUE=DATE:20260215
SUMMARY:Coast To Coast Multisport 243K 2026
DESCRIPTION:Kathmandu Coast to Coast 243K 2026 is New Zealand's flagship amateur multisport participation race\, covering about 243 km of biking\, running and kayaking from Kumara on the West Coast to New Brighton on the East Coast. The official organizer site describes both one-day and two-day event formats across the Southern Alps and confirms 2026 race coverage on the official event platform.
LOCATION:Kumara\, West Coast
URL:https://sportplan.vercel.app/en/events/coast-to-coast-multisport-243k-2026-kumara-2026-02-14
END:VEVENT
END:VCALENDAR
