BEGIN:VCALENDAR
VERSION:2.0
PRODID:-//SportPlan//Event Calendar//EN
CALSCALE:GREGORIAN
BEGIN:VEVENT
UID:d02063d5-c754-4152-890d-f7fb41e31512@sportplan.local
DTSTAMP:20260420T193700Z
DTSTART;VALUE=DATE:20260622
DTEND;VALUE=DATE:20260623
SUMMARY:Clásica Trail Alto Najerilla\, y Urbión - Rioja Trail Series
DESCRIPTION:
LOCATION:Brieva de Cameros\, La Rioja\, La Rioja
URL:https://sportplan.vercel.app/en/events/clasica-trail-alto-najerilla-y-urbion-rioja-trail-series-brieva-de-cameros-2026-
END:VEVENT
END:VCALENDAR
