BEGIN:VCALENDAR
VERSION:2.0
PRODID:-//SportPlan//Event Calendar//EN
CALSCALE:GREGORIAN
BEGIN:VEVENT
UID:684668f0-d601-4141-a491-43e1c8f2eed8@sportplan.local
DTSTAMP:20260420T221529Z
DTSTART;VALUE=DATE:20260809
DTEND;VALUE=DATE:20260810
SUMMARY:City2Surf
DESCRIPTION:Official site for the iconic 14 km Sydney road run from CBD to Bondi.
LOCATION:Sydney\, Australia
URL:https://sportplan.vercel.app/en/events/city2surf-2026-08-09
END:VEVENT
END:VCALENDAR
