BEGIN:VCALENDAR
VERSION:2.0
PRODID:-//SportPlan//Event Calendar//EN
CALSCALE:GREGORIAN
BEGIN:VEVENT
UID:4f91ebda-29ab-4ef5-96df-98a7aed78e16@sportplan.local
DTSTAMP:20260420T192134Z
DTSTART;VALUE=DATE:20260516
DTEND;VALUE=DATE:20261231
SUMMARY:Circuito Onupolis Huelva 2026 — Inscripción Menores de 16 Años 5K Carrera Mujer 2026 5K
DESCRIPTION:Circuito Onupolis Huelva 2026 — Inscripción Menores de 16 Años 5K Carrera Mujer 2026 5K se celebrará el 16 mayo 2026 en Huelva\, reuniendo a corredores en un entorno ideal para disfrutar de la jornada. Con una distancia de 5 km\, la prueba combina esfuerzo\, ritmo y una experiencia pensada tanto para competir como para vivir el ambiente del evento.
LOCATION:Huelva
URL:https://sportplan.vercel.app/en/events/circuito-onupolis-huelva-2026-inscripcion-menores-de-16-anos-5k-carrera-mujer-2026-5k-huelva-2026-05-16
END:VEVENT
END:VCALENDAR
