BEGIN:VCALENDAR
VERSION:2.0
PRODID:-//SportPlan//Event Calendar//EN
CALSCALE:GREGORIAN
BEGIN:VEVENT
UID:9a20c0c1-5935-4e8f-a988-1d77cfe5165e@sportplan.local
DTSTAMP:20260420T192133Z
DTSTART;VALUE=DATE:20260516
DTEND;VALUE=DATE:20261231
SUMMARY:Circuito Onupolis Huelva 2026 — Inscripción 10K XXXIX Vuelta a Huelva 2026 10K
DESCRIPTION:Circuito Onupolis Huelva 2026 — Inscripción 10K XXXIX Vuelta a Huelva 2026 10K se celebra el 16 de mayo de 2026 en Huelva. La prueba recorre 10 km. Ideal para participantes que quieren disfrutar del recorrido\, el ambiente del evento y una jornada activa.
LOCATION:Huelva
URL:https://sportplan.vercel.app/en/events/circuito-onupolis-huelva-2026-inscripcion-10k-xxxix-vuelta-a-huelva-2026-10k-huelva-2026-05-16
END:VEVENT
END:VCALENDAR
