BEGIN:VCALENDAR
VERSION:2.0
PRODID:-//SportPlan//Event Calendar//EN
CALSCALE:GREGORIAN
BEGIN:VEVENT
UID:4197d911-3d3e-4c9e-bf33-a9cc517ea9d2@sportplan.local
DTSTAMP:20260420T174115Z
DTSTART;VALUE=DATE:20260710
DTEND;VALUE=DATE:20260713
SUMMARY:Chicago DEKA FIT & Ultra 2026
DESCRIPTION:Chicago DEKA FIT & Ultra 2026 is an official amateur hybrid-fitness event in Chicago\, Illinois from 10 to 12 July 2026. The official Spartan DEKA page shows a multi-day public event at Navy Pier with DEKA FIT and Ultra racing plus multiple competitive heat types and team formats for regular entrants.
LOCATION:Chicago\, Illinois
URL:https://sportplan.vercel.app/en/events/chicago-deka-fit-ultra-2026-chicago-2026-07-10
END:VEVENT
END:VCALENDAR
