BEGIN:VCALENDAR
VERSION:2.0
PRODID:-//SportPlan//Event Calendar//EN
CALSCALE:GREGORIAN
BEGIN:VEVENT
UID:50f687aa-fdd7-4ab2-bf11-5a0e8048960a@sportplan.local
DTSTAMP:20260420T193600Z
DTSTART;VALUE=DATE:20260501
DTEND;VALUE=DATE:20260502
SUMMARY:ChiaTri Sardinia
DESCRIPTION:ChiaTri Sardinia si terrà il 01/05/2026 a Domus de Maria\, IT\, con una distanza ufficiale definita dagli organizzatori. È un’ottima occasione per vivere l’atmosfera dell’evento\, porsi un obiettivo sportivo e trascorrere una giornata attiva in un contesto speciale.
LOCATION:Domus de Maria
URL:https://sportplan.vercel.app/en/events/chiatri-sardinia-domus-de-maria-2026-05-01
END:VEVENT
END:VCALENDAR
