BEGIN:VCALENDAR
VERSION:2.0
PRODID:-//SportPlan//Event Calendar//EN
CALSCALE:GREGORIAN
BEGIN:VEVENT
UID:8fa0ea8e-cb97-4e49-a4fa-1ec40bf30951@sportplan.local
DTSTAMP:20260420T191913Z
DTSTART;VALUE=DATE:20261220
DTEND;VALUE=DATE:20261221
SUMMARY:Chiang Mai Marathon 2026
DESCRIPTION:Official Chiang Mai Marathon site for the long-running mass-participation road race staged around Tha Phae Gate in Chiang Mai. The organizer site presents the event as an entrant-facing marathon weekend with race information\, registration access\, and event updates for amateur runners.
LOCATION:Chiang Mai\, Chiang Mai
URL:https://sportplan.vercel.app/en/events/chiang-mai-marathon-2026-chiang-mai-2026-12-20
END:VEVENT
END:VCALENDAR
