BEGIN:VCALENDAR
VERSION:2.0
PRODID:-//SportPlan//Event Calendar//EN
CALSCALE:GREGORIAN
BEGIN:VEVENT
UID:6ea03420-c112-4f6a-a7a9-b5caae9482b0@sportplan.local
DTSTAMP:20260420T180549Z
DTSTART;VALUE=DATE:20260614
DTEND;VALUE=DATE:20260615
SUMMARY:Cheltenham Running Festival
DESCRIPTION:
LOCATION:Cheltenham
URL:https://sportplan.vercel.app/en/events/cheltenham-running-festival-cheltenham-2026-06-14
END:VEVENT
END:VCALENDAR
