BEGIN:VCALENDAR
VERSION:2.0
PRODID:-//SportPlan//Event Calendar//EN
CALSCALE:GREGORIAN
BEGIN:VEVENT
UID:fcc5eb4b-d2e4-41cf-87ce-417f1d6f05e0@sportplan.local
DTSTAMP:20260420T234552Z
DTSTART;VALUE=DATE:20260913
DTEND;VALUE=DATE:20260914
SUMMARY:Chatsworth 10k
DESCRIPTION:
LOCATION:Derbyshire Dales
URL:https://sportplan.vercel.app/en/events/chatsworth-10k-derbyshire-dales-2026-09-13
END:VEVENT
END:VCALENDAR
