BEGIN:VCALENDAR
VERSION:2.0
PRODID:-//SportPlan//Event Calendar//EN
CALSCALE:GREGORIAN
BEGIN:VEVENT
UID:eff68357-6c46-4f69-817f-3f5a9ca49025@sportplan.local
DTSTAMP:20260420T205827Z
DTSTART;VALUE=DATE:20260726
DTEND;VALUE=DATE:20260727
SUMMARY:Challenge Turku
DESCRIPTION:discovered via official Challenge Family race sitemap/page\; Finland had 0 queue entries before this run and was selected under the underrepresented-country rule to expand Nordic coverage
LOCATION:Turku\, Finland
URL:https://sportplan.vercel.app/en/events/challenge-turku-2026-07-26
END:VEVENT
END:VCALENDAR
