BEGIN:VCALENDAR
VERSION:2.0
PRODID:-//SportPlan//Event Calendar//EN
CALSCALE:GREGORIAN
BEGIN:VEVENT
UID:01ea7b92-905e-470d-9523-bc67d5bac5a1@sportplan.local
DTSTAMP:20260420T191640Z
DTSTART;VALUE=DATE:20260913
DTEND;VALUE=DATE:20260914
SUMMARY:Challenge Almere-Amsterdam 2026
DESCRIPTION:Challenge Almere-Amsterdam 2026 vindt plaats op 13 september 2026 in Almere\, Flevoland en biedt een verzorgd sportevenement voor deelnemers met verschillende niveaus en doelen. Met een afstand van 226 km combineert het evenement fysieke uitdaging\, een sterke sfeer en de kans om de omgeving te beleven. Daardoor is het aantrekkelijk voor zowel fanatieke deelnemers als mensen die een nieuw doel aan hun seizoen willen toevoegen.
LOCATION:Almere\, Flevoland
URL:https://sportplan.vercel.app/en/events/challenge-almere-amsterdam-2026-almere-2026-09-13
END:VEVENT
END:VCALENDAR
