BEGIN:VCALENDAR
VERSION:2.0
PRODID:-//SportPlan//Event Calendar//EN
CALSCALE:GREGORIAN
BEGIN:VEVENT
UID:5c385e5a-fa2e-40c8-abcd-650a7a71a56d@sportplan.local
DTSTAMP:20260420T210342Z
DTSTART;VALUE=DATE:20260509
DTEND;VALUE=DATE:20260510
SUMMARY:Cernica Cross Duatlon by Unstoppable 2026
DESCRIPTION:Cernica Cross Duatlon by Unstoppable 2026 is an official amateur cross duathlon in Cernica\, Romania on 9 May 2026. The event appears in the Romanian Triathlon Federation 2026 national circuit calendar and points to Unstoppable Sport Club's official triathlon site for this event family.
LOCATION:Cernica
URL:https://sportplan.vercel.app/en/events/cernica-cross-duatlon-by-unstoppable-2026-cernica-2026-05-09
END:VEVENT
END:VCALENDAR
