BEGIN:VCALENDAR
VERSION:2.0
PRODID:-//SportPlan//Event Calendar//EN
CALSCALE:GREGORIAN
BEGIN:VEVENT
UID:71a524cf-d83a-4e8b-bea2-266b6d051f63@sportplan.local
DTSTAMP:20260420T192047Z
DTSTART;VALUE=DATE:20260509
DTEND;VALUE=DATE:20260518
SUMMARY:Cavernícola Race Mapfre Barbadás 2026 — Tanda 8 (Popular) 8K
DESCRIPTION:Cavernícola Race Mapfre Barbadás 2026 — Tanda 8 (Popular) 8K se celebra el 9 mayo 2026 en Barbadás\, ofreciendo una cita ideal para participantes que buscan una experiencia bien organizada y con ambiente deportivo. El evento propone un recorrido con una distancia aproximada de 8 km\, pensado para disfrutar del entorno\, mantener un buen ritmo y compartir la jornada con otros asistentes.
LOCATION:Barbadás
URL:https://sportplan.vercel.app/en/events/cavernicola-race-mapfre-barbadas-2026-tanda-8-popular-8k-barbadas-2026-05-09
END:VEVENT
END:VCALENDAR
