BEGIN:VCALENDAR
VERSION:2.0
PRODID:-//SportPlan//Event Calendar//EN
CALSCALE:GREGORIAN
BEGIN:VEVENT
UID:0e4d827b-deb8-4587-9828-a20fd3c09e56@sportplan.local
DTSTAMP:20260420T192044Z
DTSTART;VALUE=DATE:20260509
DTEND;VALUE=DATE:20260518
SUMMARY:Cavernícola Race Mapfre Barbadás 2026 — Tanda 6 (Popular) 6K
DESCRIPTION:Cavernícola Race Mapfre Barbadás 2026 — Tanda 6 (Popular) 6K se celebra el 9 mayo 2026 en Barbadás\, ofreciendo una cita ideal para participantes que buscan una experiencia bien organizada y con ambiente deportivo. El evento propone un recorrido con una distancia aproximada de 6 km\, pensado para disfrutar del entorno\, mantener un buen ritmo y compartir la jornada con otros asistentes.
LOCATION:Barbadás
URL:https://sportplan.vercel.app/en/events/cavernicola-race-mapfre-barbadas-2026-tanda-6-popular-6k-barbadas-2026-05-09
END:VEVENT
END:VCALENDAR
