BEGIN:VCALENDAR
VERSION:2.0
PRODID:-//SportPlan//Event Calendar//EN
CALSCALE:GREGORIAN
BEGIN:VEVENT
UID:0ba4dc54-8351-4300-bc91-7201a3e68dc3@sportplan.local
DTSTAMP:20260420T192049Z
DTSTART;VALUE=DATE:20260509
DTEND;VALUE=DATE:20260518
SUMMARY:Cavernícola Race Mapfre Barbadás 2026 — Tanda 5 (Popular) 5K
DESCRIPTION:Cavernícola Race Mapfre Barbadás 2026 — Tanda 5 (Popular) 5K se celebra el 9 mayo 2026 en Barbadás\, ofreciendo una cita ideal para participantes que buscan una experiencia bien organizada y con ambiente deportivo. El evento propone un recorrido con una distancia aproximada de 5 km\, pensado para disfrutar del entorno\, mantener un buen ritmo y compartir la jornada con otros asistentes.
LOCATION:Barbadás
URL:https://sportplan.vercel.app/en/events/cavernicola-race-mapfre-barbadas-2026-tanda-5-popular-5k-barbadas-2026-05-09
END:VEVENT
END:VCALENDAR
