BEGIN:VCALENDAR
VERSION:2.0
PRODID:-//SportPlan//Event Calendar//EN
CALSCALE:GREGORIAN
BEGIN:VEVENT
UID:3e7834a3-a046-4a85-ac55-a23e1960e3f1@sportplan.local
DTSTAMP:20260420T204816Z
DTSTART;VALUE=DATE:20260606
DTEND;VALUE=DATE:20260607
SUMMARY:Casamanya Extrem Vertical Race
DESCRIPTION:Official Casamanya Extrem site lists the 2026 Casamanya Extrem Vertical Race in Ordino on 6 June 2026\, with dedicated edition and registration pages for the amateur mountain-running event.
LOCATION:Ordino\, Ordino
URL:https://sportplan.vercel.app/en/events/casamanya-extrem-vertical-race-ordino-2026-06-06
END:VEVENT
END:VCALENDAR
