BEGIN:VCALENDAR
VERSION:2.0
PRODID:-//SportPlan//Event Calendar//EN
CALSCALE:GREGORIAN
BEGIN:VEVENT
UID:e4daa34c-8b3a-4220-9532-f591f276ba7c@sportplan.local
DTSTAMP:20260420T191851Z
DTSTART;VALUE=DATE:20260512
DTEND;VALUE=DATE:20260513
SUMMARY:Carrera Popular de Bornos
DESCRIPTION:Carrera Popular de Bornos se celebra el 12 de mayo de 2026 en Bornos\, Cádiz\, Andalucía. La prueba recorre 10 km. Ideal para participantes que quieren disfrutar del recorrido\, el ambiente del evento y una jornada activa.
LOCATION:Bornos\, Cádiz\, Andalucía
URL:https://sportplan.vercel.app/en/events/carrera-popular-de-bornos-bornos-2026-05-12-10k
END:VEVENT
END:VCALENDAR
