BEGIN:VCALENDAR
VERSION:2.0
PRODID:-//SportPlan//Event Calendar//EN
CALSCALE:GREGORIAN
BEGIN:VEVENT
UID:ed4fdd50-bdcd-49b7-9722-e7ecd6c8c50e@sportplan.local
DTSTAMP:20260420T191855Z
DTSTART;VALUE=DATE:20260503
DTEND;VALUE=DATE:20260504
SUMMARY:Carrera Popular Bahía de Cádiz
DESCRIPTION:Carrera Popular Bahía de Cádiz se celebra en Cádiz el 3 de mayo de 2026\, una buena oportunidad para disfrutar del ambiente de carrera en este destino. La distancia anunciada es de 1 km. Se espera una jornada animada\, con apoyo del público y un recorrido atractivo tanto para corredores habituales como para quienes buscan un nuevo reto.
LOCATION:Cádiz
URL:https://sportplan.vercel.app/en/events/carrera-popular-bah-a-de-c-diz-c-diz-2026-05-03
END:VEVENT
END:VCALENDAR
