BEGIN:VCALENDAR
VERSION:2.0
PRODID:-//SportPlan//Event Calendar//EN
CALSCALE:GREGORIAN
BEGIN:VEVENT
UID:474a07b6-adda-420f-b0b6-914efa298613@sportplan.local
DTSTAMP:20260420T204754Z
DTSTART;VALUE=DATE:20260601
DTEND;VALUE=DATE:20260602
SUMMARY:Carrera de Montaña Sierra Llagos
DESCRIPTION:Carrera de Montaña Sierra Llagos se celebra el 1 de junio de 2026 en Soto Rei\, Asturias\, Asturias. Es una excelente opción para quienes quieren disfrutar de un evento bien organizado en este destino. La prueba recorre 14 km. Se espera un ambiente animado y una jornada memorable tanto para corredores habituales como para debutantes.
LOCATION:Soto Rei\, Asturias\, Asturias
URL:https://sportplan.vercel.app/en/events/carrera-de-montana-sierra-llagos-soto-rei-2026-06-01-14k
END:VEVENT
END:VCALENDAR
