BEGIN:VCALENDAR
VERSION:2.0
PRODID:-//SportPlan//Event Calendar//EN
CALSCALE:GREGORIAN
BEGIN:VEVENT
UID:b690258d-463c-44c0-8626-fff1c86a8d89@sportplan.local
DTSTAMP:20260420T204437Z
DTSTART;VALUE=DATE:20261018
DTEND;VALUE=DATE:20261019
SUMMARY:Carrera Aragón Sur
DESCRIPTION:Carrera Aragón Sur se celebrará el 18 de octubre de 2026 en Teruel\, Unknown\, reuniendo a participantes que buscan una jornada deportiva bien organizada. La prueba propone un recorrido memorable y un ambiente acogedor. Es una excelente oportunidad para disfrutar del ambiente local\, marcarse un objetivo de temporada y vivir el evento con buena energía.
LOCATION:Teruel\, Unknown
URL:https://sportplan.vercel.app/en/events/carrera-arag-n-sur-teruel-2026-10-18
END:VEVENT
END:VCALENDAR
