BEGIN:VCALENDAR
VERSION:2.0
PRODID:-//SportPlan//Event Calendar//EN
CALSCALE:GREGORIAN
BEGIN:VEVENT
UID:aad8f2a8-c6b7-4c89-9fd7-a49a9495ce45@sportplan.local
DTSTAMP:20260420T193959Z
DTSTART;VALUE=DATE:20261018
DTEND;VALUE=DATE:20261019
SUMMARY:Cape Town Marathon 2026
DESCRIPTION:
LOCATION:Cape Town\, Western Cape
URL:https://sportplan.vercel.app/en/events/cape-town-marathon-2026-cape-town-2026-10-18
END:VEVENT
END:VCALENDAR
