BEGIN:VCALENDAR
VERSION:2.0
PRODID:-//SportPlan//Event Calendar//EN
CALSCALE:GREGORIAN
BEGIN:VEVENT
UID:96c0846f-2dd2-4580-80c2-8a0ff8ead4d3@sportplan.local
DTSTAMP:20260420T224457Z
DTSTART;VALUE=DATE:20260801
DTEND;VALUE=DATE:20260802
SUMMARY:Canillo Trail Ultra 2 Etapas
DESCRIPTION:Canillo Trail Ultra 2 Etapas aura lieu le 1 août 2026 à Canillo. C'est un rendez-vous intéressant pour les participants qui recherchent une organisation solide et une belle expérience sportive. La distance annoncée est de 70 km\, utile pour préparer votre allure\, votre entraînement et votre logistique.
LOCATION:Canillo
URL:https://sportplan.vercel.app/en/events/canillo-trail-ultra-2-etapas-canillo-2026-08-01-70k
END:VEVENT
END:VCALENDAR
