BEGIN:VCALENDAR
VERSION:2.0
PRODID:-//SportPlan//Event Calendar//EN
CALSCALE:GREGORIAN
BEGIN:VEVENT
UID:cbb1f011-4a51-4b89-be09-dffceb7667ae@sportplan.local
DTSTAMP:20260420T224328Z
DTSTART;VALUE=DATE:20260801
DTEND;VALUE=DATE:20260802
SUMMARY:Canillo Trail 24K
DESCRIPTION:Canillo Trail 24K aura lieu le 1 août 2026 à Canillo. C'est un rendez-vous intéressant pour les participants qui recherchent une organisation solide et une belle expérience sportive. La distance annoncée est de 24 km\, utile pour préparer votre allure\, votre entraînement et votre logistique.
LOCATION:Canillo
URL:https://sportplan.vercel.app/en/events/canillo-trail-24k-canillo-2026-08-01-24k
END:VEVENT
END:VCALENDAR
