BEGIN:VCALENDAR
VERSION:2.0
PRODID:-//SportPlan//Event Calendar//EN
CALSCALE:GREGORIAN
BEGIN:VEVENT
UID:ec296a98-3703-4463-a87a-fe2a7cef8227@sportplan.local
DTSTAMP:20260420T164045Z
DTSTART;VALUE=DATE:20260423
DTEND;VALUE=DATE:20260424
SUMMARY:Canarias7 Carrera de las Empresas - 10K
DESCRIPTION:Canarias7 Carrera de las Empresas - 10K se celebra en Las Palmas de Gran Canaria\, Gran Canaria\, Canarias el 23 de abril de 2026. Es una cita ideal para vivir una gran jornada de running con un recorrido de 10 km route that suits both focused racing and enjoying the local atmosphere. Tanto si buscas marca como si prefieres disfrutar del recorrido\, ofrece una experiencia atractiva para corredores y acompañantes.
LOCATION:Las Palmas de Gran Canaria\, Gran Canaria\, Canarias
URL:https://sportplan.vercel.app/en/events/canarias7-carrera-de-las-empresas-10k-las-palmas-de-gran-canaria-2026-04-23-10k
END:VEVENT
END:VCALENDAR
