BEGIN:VCALENDAR
VERSION:2.0
PRODID:-//SportPlan//Event Calendar//EN
CALSCALE:GREGORIAN
BEGIN:VEVENT
UID:441eacf3-da50-4700-8e00-b1c968455210@sportplan.local
DTSTAMP:20260420T195100Z
DTSTART;VALUE=DATE:20261128
DTEND;VALUE=DATE:20261129
SUMMARY:Campeonato Nacional de Triatlón Gran Jaguar 70.3 2026 — Promocional Gran Jaguar
DESCRIPTION:
LOCATION:Flores Petén
URL:https://sportplan.vercel.app/en/events/campeonato-nacional-de-triatlon-gran-jaguar-70-3-2026-promocional-gran-jaguar-flores-peten-2026-11-28
END:VEVENT
END:VCALENDAR
