BEGIN:VCALENDAR
VERSION:2.0
PRODID:-//SportPlan//Event Calendar//EN
CALSCALE:GREGORIAN
BEGIN:VEVENT
UID:84eb7fda-a232-4fa4-b6d2-f9664865a136@sportplan.local
DTSTAMP:20260420T191927Z
DTSTART;VALUE=DATE:20260426
DTEND;VALUE=DATE:20260427
SUMMARY:Calderdale Way Ultra - Lt\, Uk
DESCRIPTION:
LOCATION:Heptonstall
URL:https://sportplan.vercel.app/en/events/calderdale-way-ultra-lt-uk-heptonstall-2026-04-26
END:VEVENT
END:VCALENDAR
