BEGIN:VCALENDAR
VERSION:2.0
PRODID:-//SportPlan//Event Calendar//EN
CALSCALE:GREGORIAN
BEGIN:VEVENT
UID:c1df60b8-1960-4946-b4fd-81bd82451d58@sportplan.local
DTSTAMP:20260420T211218Z
DTSTART;VALUE=DATE:20260704
DTEND;VALUE=DATE:20260705
SUMMARY:Buff Epic Trail
DESCRIPTION:Buff Epic Trail se celebrará el 4 de julio de 2026 en Berguedà. Es una buena cita para participantes que buscan una experiencia deportiva bien organizada y un ambiente motivador. El recorrido cubre aproximadamente 105 km. Consulta la información oficial del evento para conocer horarios\, recorridos y detalles logísticos.
LOCATION:Berguedà
URL:https://sportplan.vercel.app/en/events/buff-epic-trail-bergued-2026-07-04
END:VEVENT
END:VCALENDAR
