BEGIN:VCALENDAR
VERSION:2.0
PRODID:-//SportPlan//Event Calendar//EN
CALSCALE:GREGORIAN
BEGIN:VEVENT
UID:abc08288-637d-4a36-8cec-ea96ff5a8623@sportplan.local
DTSTAMP:20260420T234332Z
DTSTART;VALUE=DATE:20261011
DTEND;VALUE=DATE:20261012
SUMMARY:Budapest Marathon 2026
DESCRIPTION:Official site for the 41st SPAR Budapest Maraton Fesztivál on 10 to 11 October 2026.
LOCATION:Budapest\, Budapest
URL:https://sportplan.vercel.app/en/events/budapest-marathon-2026-budapest-2026-10-11
END:VEVENT
END:VCALENDAR
