BEGIN:VCALENDAR
VERSION:2.0
PRODID:-//SportPlan//Event Calendar//EN
CALSCALE:GREGORIAN
BEGIN:VEVENT
UID:b9d83bda-6356-4fd0-ba93-07b0768f50da@sportplan.local
DTSTAMP:20260420T234332Z
DTSTART;VALUE=DATE:20260906
DTEND;VALUE=DATE:20260907
SUMMARY:Budapest Half Marathon 2026
DESCRIPTION:Official site for the 41st Wizz Air Budapest Félmaraton in Budapest on 6 September 2026.
LOCATION:Budapest\, Budapest
URL:https://sportplan.vercel.app/en/events/budapest-half-marathon-2026-budapest-2026-09-06
END:VEVENT
END:VCALENDAR
