BEGIN:VCALENDAR
VERSION:2.0
PRODID:-//SportPlan//Event Calendar//EN
CALSCALE:GREGORIAN
BEGIN:VEVENT
UID:14bc8b2f-a39f-4372-9d75-82677596846f@sportplan.local
DTSTAMP:20260420T191842Z
DTSTART;VALUE=DATE:20260607
DTEND;VALUE=DATE:20260608
SUMMARY:Brabantse Wal Marathon
DESCRIPTION:
LOCATION:Bergen op Zoom
URL:https://sportplan.vercel.app/en/events/brabantse-wal-marathon-bergen-op-zoom-2026-06-07
END:VEVENT
END:VCALENDAR
