BEGIN:VCALENDAR
VERSION:2.0
PRODID:-//SportPlan//Event Calendar//EN
CALSCALE:GREGORIAN
BEGIN:VEVENT
UID:b1fbe717-fe19-4d11-ab12-f39a41528c1f@sportplan.local
DTSTAMP:20260420T180423Z
DTSTART;VALUE=DATE:20260807
DTEND;VALUE=DATE:20260808
SUMMARY:Bolly Skyline Mtb Enduro
DESCRIPTION:Bolly Skyline Mtb Enduro is scheduled for August 7\, 2026 in SK10 5JT. It offers a great opportunity to enjoy a well-organized sporting event with a strong atmosphere and an engaging course. Its accessible format and attractive setting make it a solid option for a wide range of participants.
LOCATION:SK10 5JT
URL:https://sportplan.vercel.app/en/events/bolly-skyline-mtb-enduro-sk10-5jt-2026-08-07
END:VEVENT
END:VCALENDAR
