BEGIN:VCALENDAR
VERSION:2.0
PRODID:-//SportPlan//Event Calendar//EN
CALSCALE:GREGORIAN
BEGIN:VEVENT
UID:7d5c81a9-00f3-42ae-9dc0-84d900b66086@sportplan.local
DTSTAMP:20260420T204401Z
DTSTART;VALUE=DATE:20260726
DTEND;VALUE=DATE:20260727
SUMMARY:Bogotá Half Marathon 2026
DESCRIPTION:Bogotá Half Marathon 2026 se celebrará el 26 de julio de 2026 en Bogotá\, Bogotá. Es una buena opción para quienes buscan un reto bien organizado y una jornada deportiva en un entorno especial. La distancia anunciada es de 21.1 km\, ideal para planificar ritmo\, entrenamiento y logística con antelación.
LOCATION:Bogotá\, Bogotá
URL:https://sportplan.vercel.app/en/events/bogot-half-marathon-2026-bogot-2026-07-26
END:VEVENT
END:VCALENDAR
