BEGIN:VCALENDAR
VERSION:2.0
PRODID:-//SportPlan//Event Calendar//EN
CALSCALE:GREGORIAN
BEGIN:VEVENT
UID:93724fe4-eb29-4e67-8e1c-408e2617cdd1@sportplan.local
DTSTAMP:20260420T180547Z
DTSTART;VALUE=DATE:20260425
DTEND;VALUE=DATE:20260427
SUMMARY:Blackpool Festival of Running
DESCRIPTION:
LOCATION:Blackpool
URL:https://sportplan.vercel.app/en/events/blackpool-festival-of-running-blackpool-2026-04-25
END:VEVENT
END:VCALENDAR
