BEGIN:VCALENDAR
VERSION:2.0
PRODID:-//SportPlan//Event Calendar//EN
CALSCALE:GREGORIAN
BEGIN:VEVENT
UID:1805e90c-2d05-44e1-8ad4-48980193b6d8@sportplan.local
DTSTAMP:20260420T222409Z
DTSTART;VALUE=DATE:20260913
DTEND;VALUE=DATE:20260914
SUMMARY:Black Forest Ultra 80K 2026
DESCRIPTION:Black Forest Ultra 80K 2026 findet am 13. September 2026 in Freiburg\, Baden-Württemberg statt und bietet ein gut organisiertes Sporterlebnis für unterschiedliche Leistungsniveaus. Die Distanz von 80 km verbindet sportliche Herausforderung\, Eventstimmung und die Möglichkeit\, die Umgebung zu erleben. Damit eignet sich das Event sowohl für ambitionierte Teilnehmende als auch für alle\, die ein neues Saisonziel suchen.
LOCATION:Freiburg\, Baden-Württemberg
URL:https://sportplan.vercel.app/en/events/black-forest-ultra-80k-2026-freiburg-2026-09-13
END:VEVENT
END:VCALENDAR
