BEGIN:VCALENDAR
VERSION:2.0
PRODID:-//SportPlan//Event Calendar//EN
CALSCALE:GREGORIAN
BEGIN:VEVENT
UID:976dc4a3-5d84-4a7b-a0e7-91a201bdac1a@sportplan.local
DTSTAMP:20260420T210647Z
DTSTART;VALUE=DATE:20270320
DTEND;VALUE=DATE:20270321
SUMMARY:Birkebeinerrennet Ski 53K 2027
DESCRIPTION:Birkebeinerrennet is Birken’s flagship mass-participation cross-country ski race in Norway. The official Birken event page lists the 87th edition on Saturday 20 March 2027 as a 53 km classic race from Rena to Lillehammer\, bringing together recreational skiers and experienced athletes in the same mountain event.
LOCATION:Tingstadjordet\, Rena to Lillehammer\, Innlandet\, Norway
URL:https://sportplan.vercel.app/en/events/birkebeinerrennet-ski-53k-2027-rena-2027-03-20
END:VEVENT
END:VCALENDAR
