BEGIN:VCALENDAR
VERSION:2.0
PRODID:-//SportPlan//Event Calendar//EN
CALSCALE:GREGORIAN
BEGIN:VEVENT
UID:2694ca40-7c88-40ac-b608-b79da657a559@sportplan.local
DTSTAMP:20260420T210125Z
DTSTART;VALUE=DATE:20260613
DTEND;VALUE=DATE:20260614
SUMMARY:Birkebeiner Run 21 km 2026
DESCRIPTION:Birkebeiner Run 21 km 2026 is an official amateur trail running event in Lillehammer\, Norway on 13 June 2026. The official Birken page calls it Norway's largest trail run\, with a half marathon course from Birkebeineren Ski Stadium to Håkons Hall through forest trails\, dirt roads\, and former Olympic cross-country tracks\, and states that participants aged 16 and older can take part.
LOCATION:Birkebeineren Ski Stadium to Håkons Hall\, Lillehammer
URL:https://sportplan.vercel.app/en/events/birkebeiner-run-21-km-2026-2026-06-13
END:VEVENT
END:VCALENDAR
