BEGIN:VCALENDAR
VERSION:2.0
PRODID:-//SportPlan//Event Calendar//EN
CALSCALE:GREGORIAN
BEGIN:VEVENT
UID:4bdec35c-8eb6-42e0-bbac-704843686ce6@sportplan.local
DTSTAMP:20260420T180603Z
DTSTART;VALUE=DATE:20260606
DTEND;VALUE=DATE:20260607
SUMMARY:Bike Marató Girona Gravel 2026
DESCRIPTION:Bike Marató Girona Gravel 2026 se celebrará el 6 de junio de 2026 en Parc de la Devesa\, Girona. Es una buena opción para quienes buscan un reto bien organizado en un entorno atractivo de aproximadamente 130 km. Ideal para planificar la temporada\, disfrutar del ambiente del evento y competir a tu ritmo.
LOCATION:Parc de la Devesa\, Girona
URL:https://sportplan.vercel.app/en/events/bike-marat-girona-gravel-2026-girona-2026-06-06
END:VEVENT
END:VCALENDAR
