BEGIN:VCALENDAR
VERSION:2.0
PRODID:-//SportPlan//Event Calendar//EN
CALSCALE:GREGORIAN
BEGIN:VEVENT
UID:b0997771-316b-40fa-8ce5-3c20b77f9560@sportplan.local
DTSTAMP:20260420T222502Z
DTSTART;VALUE=DATE:20260220
DTEND;VALUE=DATE:20260221
SUMMARY:Bieg Piastów 6 km CT 2026
DESCRIPTION:Bieg Piastów 6 km CT is the official 6 km classic-technique amateur race of the 50th Bieg Piastów Cross-Country Ski Festival in Jakuszyce\, Poland\, on 20 February 2026. The organizer positions it as the shortest distance\, intended as an accessible way to warm up for longer races and experience the festival atmosphere\, with participation open from age 7.
LOCATION:Polana Jakuszycka\, Jakuszyce\, Poland
URL:https://sportplan.vercel.app/en/events/bieg-piastow-6-km-ct-2026-jakuszyce-2026-02-20
END:VEVENT
END:VCALENDAR
