BEGIN:VCALENDAR
VERSION:2.0
PRODID:-//SportPlan//Event Calendar//EN
CALSCALE:GREGORIAN
BEGIN:VEVENT
UID:41c8c584-e8d2-4b58-a3b4-7035853cd1fe@sportplan.local
DTSTAMP:20260420T233039Z
DTSTART;VALUE=DATE:20260912
DTEND;VALUE=DATE:20260913
SUMMARY:Bern-Zermatt 2026
DESCRIPTION:Bern-Zermatt 2026 is an official Chasing Cancellara amateur road-cycling event in Switzerland on 12 September 2026. The official organizer page says the route starts at Turnhalle Rain in Ittigen\, finishes on Obere Mattenstrasse in Zermatt\, covers 275 km with major climbs\, and offers single\, relay\, couple\, and happy-threesome categories with six feeding zones\, luggage transport\, timekeeping\, and neutral race support.
LOCATION:Ittigen
URL:https://sportplan.vercel.app/en/events/bern-zermatt-2026-ittigen-2026-09-12
END:VEVENT
END:VCALENDAR
