BEGIN:VCALENDAR
VERSION:2.0
PRODID:-//SportPlan//Event Calendar//EN
CALSCALE:GREGORIAN
BEGIN:VEVENT
UID:ff862924-5ce5-4d70-900f-4719298f3fa8@sportplan.local
DTSTAMP:20260421T005711Z
DTSTART;VALUE=DATE:20261003
DTEND;VALUE=DATE:20261005
SUMMARY:Beneva Quebec Marathon
DESCRIPTION:Beneva Quebec Marathon takes place in Quebec on October 3\, 2026\, offering runners a chance to enjoy a focused race atmosphere in CA. The route details are expected to suit runners looking for a well-organized race-day experience. Expect a motivating event environment for both committed athletes and enthusiastic participants.
LOCATION:Quebec
URL:https://sportplan.vercel.app/en/events/beneva-quebec-marathon-quebec-2026-10-03
END:VEVENT
END:VCALENDAR
