BEGIN:VCALENDAR
VERSION:2.0
PRODID:-//SportPlan//Event Calendar//EN
CALSCALE:GREGORIAN
BEGIN:VEVENT
UID:73c9d550-5c2b-49f2-9ef5-537c42f9a558@sportplan.local
DTSTAMP:20260420T220916Z
DTSTART;VALUE=DATE:20261011
DTEND;VALUE=DATE:20261012
SUMMARY:Beneva Montreal Marathon
DESCRIPTION:discovered via Brave web_search on direct World's Marathons Canada running event pages\; Canada was the lowest-count country in the current priority list.
LOCATION:Montreal\, Canada
URL:https://sportplan.vercel.app/en/events/beneva-montreal-marathon-2026-10-11
END:VEVENT
END:VCALENDAR
