BEGIN:VCALENDAR
VERSION:2.0
PRODID:-//SportPlan//Event Calendar//EN
CALSCALE:GREGORIAN
BEGIN:VEVENT
UID:800f45ac-7bed-4748-86a4-083060886765@sportplan.local
DTSTAMP:20260420T180602Z
DTSTART;VALUE=DATE:20260614
DTEND;VALUE=DATE:20260615
SUMMARY:Bay to Bay Running Festival
DESCRIPTION:Bay to Bay Running Festival takes place in Woy Woy on June 14\, 2026. This event offers runners a well-organized race experience\, suitable for runners looking for a clear challenge. Expect an energizing atmosphere\, a motivating course\, and a great opportunity to enjoy race day in Woy Woy.
LOCATION:Woy Woy
URL:https://sportplan.vercel.app/en/events/bay-to-bay-running-festival-woy-woy-2026-06-14
END:VEVENT
END:VCALENDAR
