BEGIN:VCALENDAR
VERSION:2.0
PRODID:-//SportPlan//Event Calendar//EN
CALSCALE:GREGORIAN
BEGIN:VEVENT
UID:0863259d-9efd-4eab-854a-6a954a4a3fb5@sportplan.local
DTSTAMP:20260420T221901Z
DTSTART;VALUE=DATE:20260315
DTEND;VALUE=DATE:20260316
SUMMARY:BarneBirken Ski 2026
DESCRIPTION:BarneBirken Ski 2026 is an official amateur participation kids cross-country ski event in Innlandet\, Norway on 15 March 2026. The official Birken page says the event is held at Skramstadsætra in Rena and at Birkebeineren Ski Stadium in Lillehammer for children aged 0 to 11\, with classic-style age-adapted courses and medals for all finishers.
LOCATION:Skramstadsætra\, Rena and Birkebeineren Ski Stadium\, Lillehammer
URL:https://sportplan.vercel.app/en/events/barnebirken-ski-2026-rena-lillehammer-2026-03-15
END:VEVENT
END:VCALENDAR
