BEGIN:VCALENDAR
VERSION:2.0
PRODID:-//SportPlan//Event Calendar//EN
CALSCALE:GREGORIAN
BEGIN:VEVENT
UID:6caef7b4-0d30-480c-ba76-8d3cc9e44ace@sportplan.local
DTSTAMP:20260420T191850Z
DTSTART;VALUE=DATE:20261018
DTEND;VALUE=DATE:20261019
SUMMARY:Barbudo Skyrace
DESCRIPTION:Barbudo Skyrace se celebra el 18 de octubre de 2026 en Jumilla\, Murcia. Es una cita ideal para quienes buscan un recorrido bien señalizado y un gran ambiente de carrera\, con un recorrido de 34 km. Perfecta tanto para competir a buen ritmo como para disfrutar de la experiencia y del entorno del evento.
LOCATION:Jumilla\, Murcia
URL:https://sportplan.vercel.app/en/events/barbudo-skyrace-jumilla-2026-10-18
END:VEVENT
END:VCALENDAR
