BEGIN:VCALENDAR
VERSION:2.0
PRODID:-//SportPlan//Event Calendar//EN
CALSCALE:GREGORIAN
BEGIN:VEVENT
UID:6fdf13b9-b4c5-4780-9de3-43a48834f946@sportplan.local
DTSTAMP:20260420T161958Z
DTSTART;VALUE=DATE:20260222
DTEND;VALUE=DATE:20260223
SUMMARY:Balwin Sport Pretoria Marathon 2026
DESCRIPTION:Official Balwin Sport Pretoria Marathon site for the annual amateur road-running event in Pretoria\, South Africa. The official event page confirms the 2026 edition on 22 February 2026 and presents participant-facing information for 42.2 km\, 21.1 km\, 10 km\, and 5 km race options\, alongside race photos and results.
LOCATION:Pretoria
URL:https://sportplan.vercel.app/en/events/balwin-sport-pretoria-marathon-2026-pretoria-2026-02-22
END:VEVENT
END:VCALENDAR
