BEGIN:VCALENDAR
VERSION:2.0
PRODID:-//SportPlan//Event Calendar//EN
CALSCALE:GREGORIAN
BEGIN:VEVENT
UID:794b099f-93e3-46bc-964f-dd3e0ab16e11@sportplan.local
DTSTAMP:20260420T175544Z
DTSTART;VALUE=DATE:20260913
DTEND;VALUE=DATE:20260914
SUMMARY:Bacchus Wine Half-marathon & 10k
DESCRIPTION:
LOCATION:Dorking
URL:https://sportplan.vercel.app/en/events/bacchus-wine-half-marathon-10k-dorking-2026-09-13
END:VEVENT
END:VCALENDAR
