BEGIN:VCALENDAR
VERSION:2.0
PRODID:-//SportPlan//Event Calendar//EN
CALSCALE:GREGORIAN
BEGIN:VEVENT
UID:134ae904-5570-424c-b73f-eb78e2c9d996@sportplan.local
DTSTAMP:20260421T040702Z
DTSTART;VALUE=DATE:20261101
DTEND;VALUE=DATE:20261102
SUMMARY:Auckland Marathon 2026 – Run the Bridge
DESCRIPTION:Official Auckland Marathon Harbour Bridge crossing page\; once-a-year chance to run Auckland Harbour Bridge\; sunrise ferry to start\; panoramic harbour views\; NZ first discovery run\; stable sub-page
LOCATION:Auckland\, New Zealand
URL:https://sportplan.vercel.app/en/events/auckland-marathon-2026-run-the-bridge-2026-11-01
END:VEVENT
END:VCALENDAR
