BEGIN:VCALENDAR
VERSION:2.0
PRODID:-//SportPlan//Event Calendar//EN
CALSCALE:GREGORIAN
BEGIN:VEVENT
UID:5c14fd69-9df6-43c7-9fe3-4a0743495f12@sportplan.local
DTSTAMP:20260421T035713Z
DTSTART;VALUE=DATE:20261101
DTEND;VALUE=DATE:20261102
SUMMARY:Auckland Marathon 2026 – Enter Now
DESCRIPTION:Official Auckland Marathon registration/entry page\; 5 distances\; 35th anniversary 2026\; NZ first discovery run\; stable sub-page
LOCATION:Auckland\, New Zealand
URL:https://sportplan.vercel.app/en/events/auckland-marathon-2026-enter-now-2026-11-01
END:VEVENT
END:VCALENDAR
