BEGIN:VCALENDAR
VERSION:2.0
PRODID:-//SportPlan//Event Calendar//EN
CALSCALE:GREGORIAN
BEGIN:VEVENT
UID:7576d9c4-5451-49b6-ab8a-199d945354f3@sportplan.local
DTSTAMP:20260420T180332Z
DTSTART;VALUE=DATE:20260816
DTEND;VALUE=DATE:20260817
SUMMARY:Atw Oundle Triathlon
DESCRIPTION:
LOCATION:Oundle School Swimming Pool
URL:https://sportplan.vercel.app/en/events/atw-oundle-triathlon-oundle-school-swimming-pool-2026-08-16
END:VEVENT
END:VCALENDAR
